BEGIN:VCALENDAR
VERSION:2.0
PRODID:-//Berliner Börsenkreis e.V. - ECPv6.15.17//NONSGML v1.0//EN
CALSCALE:GREGORIAN
METHOD:PUBLISH
X-ORIGINAL-URL:https://berliner-boersenkreis.de
X-WR-CALDESC:Veranstaltungen für Berliner Börsenkreis e.V.
REFRESH-INTERVAL;VALUE=DURATION:PT1H
X-Robots-Tag:noindex
X-PUBLISHED-TTL:PT1H
BEGIN:VTIMEZONE
TZID:Europe/Paris
BEGIN:DAYLIGHT
TZOFFSETFROM:+0100
TZOFFSETTO:+0200
TZNAME:CEST
DTSTART:20250330T010000
END:DAYLIGHT
BEGIN:STANDARD
TZOFFSETFROM:+0200
TZOFFSETTO:+0100
TZNAME:CET
DTSTART:20251026T010000
END:STANDARD
BEGIN:DAYLIGHT
TZOFFSETFROM:+0100
TZOFFSETTO:+0200
TZNAME:CEST
DTSTART:20260329T010000
END:DAYLIGHT
BEGIN:STANDARD
TZOFFSETFROM:+0200
TZOFFSETTO:+0100
TZNAME:CET
DTSTART:20261025T010000
END:STANDARD
BEGIN:DAYLIGHT
TZOFFSETFROM:+0100
TZOFFSETTO:+0200
TZNAME:CEST
DTSTART:20270328T010000
END:DAYLIGHT
BEGIN:STANDARD
TZOFFSETFROM:+0200
TZOFFSETTO:+0100
TZNAME:CET
DTSTART:20271031T010000
END:STANDARD
END:VTIMEZONE
BEGIN:VEVENT
DTSTART;TZID=Europe/Paris:20260424T183000
DTEND;TZID=Europe/Paris:20260424T210000
DTSTAMP:20260423T113400
CREATED:20260213T104315Z
LAST-MODIFIED:20260223T123705Z
UID:29372-1777055400-1777064400@berliner-boersenkreis.de
SUMMARY:Deutsche Bank - 24.04.
DESCRIPTION:Liebe Interessierte\, \nwir freuen uns\, euch am 24. April zu einem Event mit der Deutschen Bank einladen zu dürfen. \nDie Deutsche Bank AG ist eine der weltweit führenden Universal- und Investmentbanken mit Hauptsitz in Frankfurt am Main. Sie verbindet jahrzehntelange Expertise im Kapitalmarktgeschäft mit modernen Lösungen für Unternehmen\, Finanzinstitutionen und private Anleger. \nThematischer Schwerpunkt des Abends ist „Hedging Solutions mit Fokus auf Zinssätze“– ein spannender Einblick in Strategien zur Absicherung gegen Zinsrisiken\, der sowohl für Einsteiger als auch Fortgeschrittene wertvolle Perspektiven bietet. Euch erwartet ein praxisorientiertes Event mit fundierten Einblicken und der Gelegenheit\, direkt mit Expertinnen und Experten der Deutschen Bank ins Gespräch zu kommen. \n Uhrzeit: 18:30 Anmeldeschluss: 20.04 \n			\n				Hier geht's zur Anmeldung!
URL:https://berliner-boersenkreis.de/event/deutsche-bank-24-04/
ATTACH;FMTTYPE=image/png:https://berliner-boersenkreis.de/wp-content/uploads/2026/02/Deutsche_Bank-Logo.svg_.png
END:VEVENT
BEGIN:VEVENT
DTSTART;TZID=Europe/Paris:20260427T190000
DTEND;TZID=Europe/Paris:20260427T210000
DTSTAMP:20260423T113400
CREATED:20260420T161031Z
LAST-MODIFIED:20260420T161037Z
UID:29617-1777316400-1777323600@berliner-boersenkreis.de
SUMMARY:Börsenführerschein - ab dem 27.04.
DESCRIPTION:Liebe Interessierte\, \nwir freuen uns\, euch unseren Berliner Börsenkreis Börsenführerschein vorstellen zu dürfen! \nObwohl Finanzmärkte und Kapitalmarktthemen im Alltag allgegenwärtig sind\, werden sie in der Bildung häufig zu wenig behandelt. Mit unserem Börsenführerschein möchten wir euch ein fundiertes Grundlagenwissen rund um die Börse und den Kapitalmarkt vermitteln &#8211; praxisnah\, verständlich und direkt vor Ort. Nutzt diese Chance\, kostenlos euer Wissen über die Finanzmärkte aufzubauen und euch eine solide Grundlage für eure finanzielle Zukunft zu schaffen!Der Börsenführerschein umfasst vier Präsenzvorträge: \n1. Börse & Handel\, Indizes und Krisen – 27.04.20262. Aktien\, Anleihen und Fonds – 04.05.20263. Futures\, Optionen und weitere Derivate – 11.05.20264. Anlegerphilosophien und Börsenpsychologie – 18.05.2026 \nAm Ende habt ihr die Möglichkeit\, eine Multiple-Choice-Prüfung bei unserem Dachverband BVH abzulegen. BBK-Mitglieder\, die die Prüfung erfolgreich absolvieren\, erhalten ein kostenloses Zertifikat. \nUhrzeit: jeweils 19:00 UhrAnmeldeschluss: 26.04. \nNutzt diese Chance\, kostenlos zu lernen und die Welt der Börse zu entdecken! \n			\n				Hier geht's zur Anmeldung!
URL:https://berliner-boersenkreis.de/event/boersenfuehrerschein-ab-dem-27-04/
ATTACH;FMTTYPE=image/png:https://berliner-boersenkreis.de/wp-content/uploads/2026/04/thumbnail_image004.png
END:VEVENT
BEGIN:VEVENT
DTSTART;TZID=Europe/Paris:20260428T183000
DTEND;TZID=Europe/Paris:20260428T210000
DTSTAMP:20260423T113400
CREATED:20260223T162413Z
LAST-MODIFIED:20260413T150412Z
UID:29391-1777401000-1777410000@berliner-boersenkreis.de
SUMMARY:MIND - 28.04.
DESCRIPTION:Liebe Interessierte\, \nwir freuen uns sehr\, euch am 28. April zu einem Workshop mit MIND Mergers & Acquisitions einladen zu dürfen. \nMIND ist eine auf mittelständische Unternehmen spezialisierte M&A-Beratung mit Sitz in Berlin und begleitet Unternehmensverkäufe\, -käufe sowie strategische Transaktionen. Mit analytischer Präzision und fundierter Marktkenntnis unterstützt das Team Mandantinnen und Mandanten bei erfolgreichen Deals. \nIm Mittelpunkt steht eine Pitch Competition: Ihr arbeitet in kleinen Gruppen daran\, ein Unternehmen in wenigen Minuten überzeugend vor einer Jury zu pitchen &#8211; genau so\, wie es Analysts im echten M&A-Alltag tun. Philipp Köppe begleitet euch durch den Workshop und gibt euch zusammen mit der Jury direktes\, praxisnahes Feedback. Ein idealer Einstieg\, um zu verstehen\, worauf es bei Transaktionen und überzeugenden Pitches wirklich ankommt. \nUhrzeit: 18:30 UhrAnmeldeschluss: 24.04.Hinweis: Laptops werden benötigt. \n			\n				Hier geht's zur Anmeldung!
URL:https://berliner-boersenkreis.de/event/mind-28-04/
ATTACH;FMTTYPE=image/png:https://berliner-boersenkreis.de/wp-content/uploads/2026/02/Screenshot-2026-02-23-172304.png
END:VEVENT
BEGIN:VEVENT
DTSTART;TZID=Europe/Paris:20260429T190000
DTEND;TZID=Europe/Paris:20260429T210000
DTSTAMP:20260423T113400
CREATED:20260213T105123Z
LAST-MODIFIED:20260411T112641Z
UID:29379-1777489200-1777496400@berliner-boersenkreis.de
SUMMARY:Deutsche Börse - 29.04.
DESCRIPTION:Liebe Interessierte\, \nwir freuen uns\, euch am 29. April zu einem Event mit der Deutschen Börse einladen zu dürfen. \nDie Deutsche Börse Group zählt zu den zentralen Infrastrukturanbietern für die globalen Finanzmärkte. Sie betreibt Handelsplattformen wie Xetra und Eurex\, stellt Markt- und Indexdaten bereit und schafft mit ihren Systemen die Grundlage für transparenten und regulierten Wertpapierhandel. Mit ihrer Rolle verbindet sie Technologie\, Regulierung und Marktzugang in einzigartiger Weise. \nDer Abend steht unter dem Thema „Direkte Partizipation als Privatinvestor am IPO/IBO“. Dabei geht es darum\, wie Privatanlegerinnen und Privatanleger an Börsengängen IPOs und Anleiheemissionen IBOs teilnehmen können. Bei IBOs handelt es sich um die erstmalige Ausgabe von Unternehmensanleihen. Ihr erhaltet einen Einblick\, wie solche Prozesse ablaufen und welche Möglichkeiten sich für Retail-Investoren ergeben. \nUhrzeit: 19:00 UhrAnmeldeschluss: 25.04. \n			\n				Hier geht's zur Anmeldung!
URL:https://berliner-boersenkreis.de/event/deutsche-boerse-29-04/
ATTACH;FMTTYPE=image/png:https://berliner-boersenkreis.de/wp-content/uploads/2025/12/Deutsche_Boerse_Group_Logo.png
END:VEVENT
END:VCALENDAR